BEGIN:VCALENDAR
VERSION:2.0
PRODID:-//Alpenverein Sektion Lechbruck - ECPv6.15.20//NONSGML v1.0//EN
CALSCALE:GREGORIAN
METHOD:PUBLISH
X-ORIGINAL-URL:https://test.alpenverein-lechbruck.de
X-WR-CALDESC:Veranstaltungen für Alpenverein Sektion Lechbruck
REFRESH-INTERVAL;VALUE=DURATION:PT1H
X-Robots-Tag:noindex
X-PUBLISHED-TTL:PT1H
BEGIN:VTIMEZONE
TZID:Europe/Berlin
BEGIN:DAYLIGHT
TZOFFSETFROM:+0100
TZOFFSETTO:+0200
TZNAME:CEST
DTSTART:20240331T010000
END:DAYLIGHT
BEGIN:STANDARD
TZOFFSETFROM:+0200
TZOFFSETTO:+0100
TZNAME:CET
DTSTART:20241027T010000
END:STANDARD
BEGIN:DAYLIGHT
TZOFFSETFROM:+0100
TZOFFSETTO:+0200
TZNAME:CEST
DTSTART:20250330T010000
END:DAYLIGHT
BEGIN:STANDARD
TZOFFSETFROM:+0200
TZOFFSETTO:+0100
TZNAME:CET
DTSTART:20251026T010000
END:STANDARD
BEGIN:DAYLIGHT
TZOFFSETFROM:+0100
TZOFFSETTO:+0200
TZNAME:CEST
DTSTART:20260329T010000
END:DAYLIGHT
BEGIN:STANDARD
TZOFFSETFROM:+0200
TZOFFSETTO:+0100
TZNAME:CET
DTSTART:20261025T010000
END:STANDARD
END:VTIMEZONE
BEGIN:VEVENT
DTSTART;VALUE=DATE:20251205
DTEND;VALUE=DATE:20251206
DTSTAMP:20260422T035216
CREATED:20250721T113338Z
LAST-MODIFIED:20250721T113338Z
UID:2583-1764892800-1764979199@test.alpenverein-lechbruck.de
SUMMARY:Monatstreff
DESCRIPTION:Monatstreff\, 20:00 Uhr im Gasthof Holler\, mit Tourenbesprechung
URL:https://test.alpenverein-lechbruck.de/kalender/monatstreff-6/
CATEGORIES:Sektionsveranstaltung
END:VEVENT
BEGIN:VEVENT
DTSTART;VALUE=DATE:20251107
DTEND;VALUE=DATE:20251108
DTSTAMP:20260422T035216
CREATED:20250721T113250Z
LAST-MODIFIED:20250721T113301Z
UID:2581-1762473600-1762559999@test.alpenverein-lechbruck.de
SUMMARY:Monatstreff
DESCRIPTION:Monatstreff\, 20:00 Uhr im Gasthof Holler\, mit Tourenbesprechung
URL:https://test.alpenverein-lechbruck.de/kalender/monatstreff-5/
CATEGORIES:Sektionsveranstaltung
END:VEVENT
BEGIN:VEVENT
DTSTART;VALUE=DATE:20251012
DTEND;VALUE=DATE:20251013
DTSTAMP:20260422T035216
CREATED:20250721T113113Z
LAST-MODIFIED:20250721T113113Z
UID:2579-1760227200-1760313599@test.alpenverein-lechbruck.de
SUMMARY:Hike & Bike Tour – Schwarzenkopf
DESCRIPTION:Fahrstrecke: 50 km\, 700+400 hm Gesamtzeit: 5 Std.\,  \nFahrtechnik: Einfach\, Kondition: schwer \nTrittsicherheit und Schwindelfreiheit sind erforderlich. \n\nAbfahrt: 8:00 Uhr am Gh Holler\,\nAnmeldung bei Bernhard Lippert Tel. 08862 987226\nBeschreibung: Wir radeln am Stachus links zum Einstieg in den Schwarzenkopf. Wir überschreiten den Schwarzenkopf weglos. Trittsicherheit ist ein absolutes Muss! Über den Reiselsberg geht es zurück nach Lechbruck.
URL:https://test.alpenverein-lechbruck.de/kalender/hike-bike-tour-schwarzenkopf/
CATEGORIES:Bergsteiger
END:VEVENT
BEGIN:VEVENT
DTSTART;VALUE=DATE:20251006
DTEND;VALUE=DATE:20251007
DTSTAMP:20260422T035216
CREATED:20250721T112958Z
LAST-MODIFIED:20250721T112958Z
UID:2577-1759708800-1759795199@test.alpenverein-lechbruck.de
SUMMARY:Bergtour – Köllenspitze 2238 m\, Tannheimer Berge
DESCRIPTION:Insg. ca. 5\,5 h\, Aufstieg 1275 Hm\, 8 km.  \nSchwierigkeit: Bergtour UIAA I\, Kondition: mittel \nTrittsicherheit und Schwindelfreiheit sind unbedingt erforderlich. Längeres Gehen im I Schwierigkeitsgrat mit ausgesetzten Stellen. Kletterhelm zur normalen Wanderausrüstung. \n\nAbfahrt: 08:00 Uhr am Gh Holler\,\nAnmeldung bei Siegi Malhofer\, Tel. 08862 9114353\nBeschreibung: Wir starten in Nesselwängle und laufen zuerst Richtung Schneetalalpe\, um dann nach Norden umzubiegen und über die Wege 416 und 418 die Nesselwängler Scharte zu erreichen. Hier beginnt die leichte Kletterei im Schwierigkeitsgrat I\, die uns nach kurzem Abstieg über eine Felsrinne in eine Schlucht hineinführt. Eine gut versicherte Steilstufe wird an Klammern überwunden\, worauf man weiter unter Zuhilfenahme der Hände zum Gipfel emporsteigt. Dieser stellt den höchsten Punkt der Tannheimer Berge dar und bietet eine entsprechende Aussicht. Beim Abstieg können wir im Gimpelhaus einkehren\, da wir über dieses zum Auto zurückgelangen.
URL:https://test.alpenverein-lechbruck.de/kalender/bergtour-koellenspitze-2238-m-tannheimer-berge/
CATEGORIES:Bergsteiger
END:VEVENT
BEGIN:VEVENT
DTSTART;VALUE=DATE:20251005
DTEND;VALUE=DATE:20251006
DTSTAMP:20260422T035216
CREATED:20250721T113616Z
LAST-MODIFIED:20250721T115908Z
UID:2585-1759622400-1759708799@test.alpenverein-lechbruck.de
SUMMARY:Bergsommerausklang
DESCRIPTION:Bergsommerausklang – Ort und Zeit wird noch bekannt gegeben.
URL:https://test.alpenverein-lechbruck.de/kalender/bergsommerausklang/
CATEGORIES:Sektionsveranstaltung
END:VEVENT
BEGIN:VEVENT
DTSTART;VALUE=DATE:20251003
DTEND;VALUE=DATE:20251004
DTSTAMP:20260422T035216
CREATED:20250721T112849Z
LAST-MODIFIED:20250721T112849Z
UID:2575-1759449600-1759535999@test.alpenverein-lechbruck.de
SUMMARY:Monatstreff
DESCRIPTION:Monatstreff\, 20:00 Uhr im Gasthof Holler\, mit Tourenbesprechung
URL:https://test.alpenverein-lechbruck.de/kalender/monatstreff-4/
CATEGORIES:Sektionsveranstaltung
END:VEVENT
BEGIN:VEVENT
DTSTART;VALUE=DATE:20250929
DTEND;VALUE=DATE:20250930
DTSTAMP:20260422T035216
CREATED:20250721T112745Z
LAST-MODIFIED:20250721T112745Z
UID:2573-1759104000-1759190399@test.alpenverein-lechbruck.de
SUMMARY:Berg-Radtour – Tschirgant 2370 m\, Mieminger
DESCRIPTION:Insg. ca. 6 h\, Aufstieg 1310 Hm\, 14 km\, davon 410 Hm\, 6 km mit dem Fahrrad. \nTrittsicherheit und Schwindelfreiheit sind angebracht. \nSchwierigkeit: mittel\, Kondition: groß \n\nAbfahrt: 07:00 Uhr am Gh Holler\,\nAnmeldung bei Siegi Malhofer\, Tel. 08862 9114353\nBeschreibung: Heute wollen wir einen Berg besteigen\, der jedem auffällt\, der schon einmal von Landeck nach Imst gefahren ist\, da er mit der großen Prominenz von 1263 m weit über das Inntal aufragt.\n\nStart der 3-Gipfel Tour ist bei Karrösten nahe Imst. Mit dem Fahrrad fahren wir zur Karröster Alm hinauf und laufen von dort zur Bergwachthütte. An dieser vorbei erreichen wir\, über einige Drahtseile\, bald das Karröster Kreuz\, den Vorgipfel des Tschirgant. Schon hier ist der Tiefblick ins Inntal phantastisch. Über den Gratverlauf nach NO erreichen wir den Hauptgipfel. Weiter geht es zum Sattele und nach einem Abstecher zum Haiminger Kreuz\, dem 3.Gipfel. Zurück zum Sattele führt uns die Rundtour
URL:https://test.alpenverein-lechbruck.de/kalender/berg-radtour-tschirgant-2370-m-mieminger/
CATEGORIES:Bergsteiger,Mountainbiker
END:VEVENT
BEGIN:VEVENT
DTSTART;VALUE=DATE:20250921
DTEND;VALUE=DATE:20250922
DTSTAMP:20260422T035216
CREATED:20250721T112631Z
LAST-MODIFIED:20250721T112631Z
UID:2571-1758412800-1758499199@test.alpenverein-lechbruck.de
SUMMARY:Hike & Bike Tour – Gumpenkarspitze
DESCRIPTION:Fahrstrecke: 50 km\, 600+900 hm Gesamtzeit: 6 Std. Fahrtechnik: Einfach\, Kondition: sehr schwer \n\nAbfahrt: 8:00 Uhr am Gh Holler\,\nAnmeldung bei Bernhard Lippert Tel. 08862 987226\nBeschreibung: Wir radeln von Lechbruck zum Wankerfleck von dort gehen wir über Gumpenkarhütte zur Gumpenkarspitze. Falls noch Kraft und Zeit da ist\, kann noch der Geiselstein oder Gabelschrofen mitgenommen werden. Zurück nach Lechbruck geht es dann auf normalem Weg. Eine schöne aber konditionell sehr anspruchsvolle Tour.
URL:https://test.alpenverein-lechbruck.de/kalender/hike-bike-tour-gumpenkarspitze/
CATEGORIES:Bergsteiger,Mountainbiker
END:VEVENT
BEGIN:VEVENT
DTSTART;VALUE=DATE:20250918
DTEND;VALUE=DATE:20250919
DTSTAMP:20260422T035216
CREATED:20250721T112456Z
LAST-MODIFIED:20250721T112456Z
UID:2569-1758153600-1758239999@test.alpenverein-lechbruck.de
SUMMARY:Bergtour – Kramer 1.982 m
DESCRIPTION:Insg. ca. 7 1/2 h\, Aufstieg ca. 1.200 Hm\, \nSchwierigkeit: mittel\, Kondition: gut. Schwindelfreiheit und Trittsicherheit sind Voraussetzung.  \n\nAbfahrt: 07:30 Uhr am Gh Holler\,\nAnmeldung bei Gabi Kellner\, Tel. 08862 932720\nBeschreibung: Lange\, aussichtsreiche Tour in mittelschwerem Gelände mit ausgesetzten Stellen.\n\nWir starten vom Parkplatz Maximilianshöhe in Garmisch\, folgen ein Stück dem Kramer-Plateau-Weg\, steigen zur Bergwirtschaft St. Martin auf\, folgen in Kehren unter der schwarzen Wand zur Felsenkanzel hinauf bis wir den Ostrücken des Kramers erreichen. Hier schwenken wir nach links und gehen über den Rücken bis zum Gipfel. Der Abstieg erfolgt nach Westen hin\, ein kurzes Stück am Drahtseil entlang\, bis zur Stepbergalm und weiter über das Gelbe Gwänd bis zum Ausgangspunkt.
URL:https://test.alpenverein-lechbruck.de/kalender/bergtour-kramer-1-982-m/
CATEGORIES:Bergsteiger
END:VEVENT
BEGIN:VEVENT
DTSTART;VALUE=DATE:20250911
DTEND;VALUE=DATE:20250912
DTSTAMP:20260422T035216
CREATED:20250721T112318Z
LAST-MODIFIED:20250721T112318Z
UID:2567-1757548800-1757635199@test.alpenverein-lechbruck.de
SUMMARY:Genießer-Wanderung: Über den Wasserfallweg in Nesselwang zur Mittelstation der Seilbahn
DESCRIPTION:Wegstrecke 5\,2 km\, 270 Hm\, Schwierigkeit: mittel\, Kondition: mittel. \n\nAbfahrt: 9\,30 Gh. Holler\,\nAnmeldung bis 12.9.24 bei Wilfried Götz\, Tel. 08861 2417107\nBeschreibung: Von der Talstation der Seilbahn aus wandern wir entlang des imposanten Wasserfalls über viele Treppen hinauf zur Mittelstation der Seilbahn. Dort Einkehr und zurück über Bayerstätten. Wer möchte kann auch mit der Seilbahn hochfahren.
URL:https://test.alpenverein-lechbruck.de/kalender/geniesser-wanderung-ueber-den-wasserfallweg-in-nesselwang-zur-mittelstation-der-seilbahn/
CATEGORIES:Genießer-Touren
END:VEVENT
BEGIN:VEVENT
DTSTART;VALUE=DATE:20250906
DTEND;VALUE=DATE:20250907
DTSTAMP:20260422T035216
CREATED:20250721T112231Z
LAST-MODIFIED:20250721T112231Z
UID:2565-1757116800-1757203199@test.alpenverein-lechbruck.de
SUMMARY:Radtour »Alter Gaichtpass«
DESCRIPTION:Insg. ca. 70 km\, 700 Hm\, 5 h Fahrzeit\, Schwierigkeit: mittel\, Kondition: gut \n\nAbfahrt um 9.00 Uhr in Schwangau-Waltenhofen (Parkplatz am Friedhof)\nAnmeldung bei Walli u. Klaus\, Tel. 08362 930482\nBeschreibung: Der alte Gaichtpass\, der schon von den Römern im Mittelalter als Wegverbindung zur Garnison nach Bregenz und als Handelsstraße genutzt wurde\, ist eine Tour mit historischem Ambiente. Auch die „Schwabenkinder“ aus dem unteren Lechtal gelangten oft über diesem Weg in die Bodenseeregion. Er verbindet das Lechtal mit dem Tannheimer Tal und bietet sich für eine wunderschöne Rundtour mit tollem Bergpanorama an. Von Schwangau aus führt uns die längere Tour durch das Vilstal ins Tannheimer Tal. In schöner Landschaft radeln wir zum alten Gaichtpass. Eine steilere Abfahrt führt uns nach Weißenbach. Über Reutte geht es dann wieder zurück zum Ausgangspunkt.
URL:https://test.alpenverein-lechbruck.de/kalender/radtour-alter-gaichtpass/
CATEGORIES:Radler
END:VEVENT
BEGIN:VEVENT
DTSTART;VALUE=DATE:20250905
DTEND;VALUE=DATE:20250906
DTSTAMP:20260422T035216
CREATED:20250721T112131Z
LAST-MODIFIED:20250721T112131Z
UID:2563-1757030400-1757116799@test.alpenverein-lechbruck.de
SUMMARY:Monatstreff
DESCRIPTION:Monatstreff\, 20:00 Uhr im Gasthof Holler\, mit Tourenbesprechung
URL:https://test.alpenverein-lechbruck.de/kalender/monatstreff-3/
CATEGORIES:Sektionsveranstaltung
END:VEVENT
BEGIN:VEVENT
DTSTART;VALUE=DATE:20250830
DTEND;VALUE=DATE:20250831
DTSTAMP:20260422T035216
CREATED:20250721T111954Z
LAST-MODIFIED:20250721T111954Z
UID:2561-1756512000-1756598399@test.alpenverein-lechbruck.de
SUMMARY:Radtour – Nesselwang • Stubentalalpe • Jungholz
DESCRIPTION:Insg. ca. 50 km\, 700 Hm\, 4\,5 h \nSchwierigkeit: mittel\, Kondition mittel\, teiweise unbefestigter Weg \n\nAbfahrt um 9.00 Uhr beim Gasthaus Holler mit PKW\nAnmeldung bei Bertl Kienle\, Tel. 08862 8959\nBeschreibung: An Seeg\, am Kögelweiher vorbei nach Nesselwang und Reichenbach. Ab hier wird’s bergig bis zur Stubentalalpe. Genußabfahrt bis Jungholz und weiter bis Wertach. Der Rückweg führt über Hinterreute – Bayerstetten – Wertachtal -Schneidbach und Seeg.
URL:https://test.alpenverein-lechbruck.de/kalender/radtour-nesselwang-stubentalalpe-jungholz/
CATEGORIES:Radler
END:VEVENT
BEGIN:VEVENT
DTSTART;VALUE=DATE:20250828
DTEND;VALUE=DATE:20250829
DTSTAMP:20260422T035216
CREATED:20250721T111841Z
LAST-MODIFIED:20250721T111841Z
UID:2559-1756339200-1756425599@test.alpenverein-lechbruck.de
SUMMARY:Genießer-Wanderung: Vom Oberjoch zur Hirschalpe und Ornach
DESCRIPTION:ca. 600 Hm\, 9 km\, 3 h\, Schwierigkeit: mittel\, Kondition: mittel \n\nAbfahrt: 08:30 Uhr am Gh Holler\,\nAnmeldung: Hans Knott\, Tel. 08862 9328333\nBeschreibung: Start ist am großen Parkplatz am Kreisel in Oberjoch.\n\nZuerst geht’s etwas bergab bis zur Kirche\, nach Westen bis zum kleinen Jochschrofen. Nun queren wir zur Hirschalpstraße\, dann weiter zur Krähenwand und von hier direkt hinauf zur Hirschalpe. Hier kehren wir ein\, dann geht’s gut gestärkt weiter zum höchsten Punkt\, dem Ornach ca. 1600 m. Von hier geht es auf gutem Pfad und am Ende auf dem Forstweg nach Süden hinunter nach Oberjoch.
URL:https://test.alpenverein-lechbruck.de/kalender/geniesser-wanderung-vom-oberjoch-zur-hirschalpe-und-ornach/
CATEGORIES:Genießer-Touren
END:VEVENT
BEGIN:VEVENT
DTSTART;VALUE=DATE:20250816
DTEND;VALUE=DATE:20250817
DTSTAMP:20260422T035216
CREATED:20250721T111600Z
LAST-MODIFIED:20250721T111600Z
UID:2557-1755302400-1755388799@test.alpenverein-lechbruck.de
SUMMARY:Radtour zum Biergarten in Holzhausen bei Buchloe
DESCRIPTION:Insg. ca. 58 km\, 290 Hm\,  \nSchwierigkeit: leicht\, Kondition: mittel. \n\nAbfahrt um 8.45 beim Gasthaus Holler mit PKW\,\nAnmeldung bis 15.08.2025 bei Wilfried Götz\, Tel. 08861 2417107\nBeschreibung: Start ist in Dienhausen am Sachsenrieder Forst.\n\nVon da durch Wiesen\, Felder und Wälder ohne große Steigungen zum weitbekannten Brauerei-Biergarten in Holzhausen. Dort Einkehr und weiter nach Buchloe in eine Eisdiele. Zurück geht es wieder auf Fahrradwegen und Nebenstraßen.
URL:https://test.alpenverein-lechbruck.de/kalender/radtour-zum-biergarten-in-holzhausen-bei-buchloe/
CATEGORIES:Radler
END:VEVENT
BEGIN:VEVENT
DTSTART;VALUE=DATE:20250815
DTEND;VALUE=DATE:20250819
DTSTAMP:20260422T035216
CREATED:20250721T111359Z
LAST-MODIFIED:20250721T111359Z
UID:2555-1755216000-1755561599@test.alpenverein-lechbruck.de
SUMMARY:Vier-Tageswanderung – Vom Lünersee auf dem Rätikon Höhenweg
DESCRIPTION:Tagesgehzeiten ca. 4 – 7 h\, Schwierigkeit: leicht\, Kondition: mittel \nVerbindliche Anmeldung bis 01.03.2025 bei Bernd Keck\, Tel. 08862 911595 \nAbfahrt: 06:00 Uhr beim Gh Holler\, \nBeschreibung:  \n\n1. Tag: Wir starten mit der Bergbahn hinauf zum Lünersee. Nach einer 4-stündigen Wanderung erreichen wir unser erstes Tagesziel\, die Lindauer Hütte.\nAm 2. Tag besuchen wir die Tilisunahütte\, und ziehen weiter in die Schweiz\, zum Berghaus Alpenrösli\, wo wir nächtigen.\nAm 3. Tag kommen wir an der Carschinahütte vorbei\, und steigen am Gafalljoch zum Lünersee ab. Die letzte Nacht verbringen wir auf der Douglass-Hütte.
URL:https://test.alpenverein-lechbruck.de/kalender/vier-tageswanderung-vom-luenersee-auf-dem-raetikon-hoehenweg/
CATEGORIES:Bergsteiger
END:VEVENT
BEGIN:VEVENT
DTSTART;VALUE=DATE:20250809
DTEND;VALUE=DATE:20250813
DTSTAMP:20260422T035216
CREATED:20250721T110658Z
LAST-MODIFIED:20250721T110658Z
UID:2553-1754697600-1755043199@test.alpenverein-lechbruck.de
SUMMARY:Bergtour – 4 Tage: Zillertaler Alpen
DESCRIPTION:Schwindelfreiheit und Trittsicherheit sind notwendig. \nVerbindliche Anmeldung bis 31.01.2025 (Hüttenbuchung) bei Siegi Malhofer\, Tel. 08862 9114353 \nBegrenzte Teilnehmerzahl.  \nSchwierigkeit: mittel\, Kondition: mittel \nBeschreibung: Unsere Unternehmung findet im Herzen der Zillertaler Alpen statt\, mit ihrem hellen\, mineralreichen Urgestein. Die Gipfel\, die wir ohne Gletscherbegehung besteigen\, bieten grandiose Panoramen auf die großen Zillertaler Gipfel wie z.B. Hochfeiler\, Großer Möseler und Olperer. \n\n1. Tag: Zustieg zur Alpenrosenhütte (1873 m) vom Gasthof Breitlahner im Zemmtal\, 813 Hm\, 8\,6 Km\, 3 h. Wir deponieren unser Gepäck in der Alpenrosenhütte und besuchen in einer weiteren halben Stunde zum Kaffeetrinken die denkmalgeschützte Berliner Hütte.\n2. Tag: Schönbichler Horn (3134 m)\, 1261 Hm\, 6\,1 Km; 3\,5-4 Std.\, z.T. drahtseilversichert und Abstieg zur Alpenrosenhütte.\n3. Tag: Abstieg von der Alpenrosenhütte zum Gasthof\, Breitlahner\, 650 Hm\,7 km\, 2\,5 Std. Kurze Autofahrt zum Schlegeisspeicher. Aufstieg zur Olpererhütte (2389 m)\, 604 Hm\, 4 Km\, 2 h.\n4. Tag: Riepenkopf (2859 m)\, Aufstieg: 513 Hm\, 5 Km\, 2 h und zurück zur Olpererhütte. Von der Olpererhütte gehen wir die Neumarkter Runde zurück zum Schlegeisspeicher. Aufstieg 180 Hm\, Abstieg 790 Hm\, 7 km\, 2\,5 h.
URL:https://test.alpenverein-lechbruck.de/kalender/bergtour-4-tage-zillertaler-alpen/
CATEGORIES:Bergsteiger
END:VEVENT
BEGIN:VEVENT
DTSTART;VALUE=DATE:20250801
DTEND;VALUE=DATE:20250802
DTSTAMP:20260422T035216
CREATED:20250721T105403Z
LAST-MODIFIED:20250721T105510Z
UID:2543-1754006400-1754092799@test.alpenverein-lechbruck.de
SUMMARY:Monatstreff
DESCRIPTION:Monatstreff\, 20:00 Uhr im Gasthof Holler\, mit Tourenbesprechung
URL:https://test.alpenverein-lechbruck.de/kalender/monatstreff-2/
CATEGORIES:Sektionsveranstaltung
END:VEVENT
BEGIN:VEVENT
DTSTART;VALUE=DATE:20250724
DTEND;VALUE=DATE:20250725
DTSTAMP:20260422T035216
CREATED:20250721T104721Z
LAST-MODIFIED:20250721T104949Z
UID:2538-1753315200-1753401599@test.alpenverein-lechbruck.de
SUMMARY:Bergtour – Vorderer Drachenkopf
DESCRIPTION:Insgesamt: ca. 7 h\, Aufstieg: ca. 1.270 Hm \nSchwindelfreiheit und Trittsicherheit sind Voraussetzung. Schwierigkeit: mittel\, Kondition: mittel \n\nAbfahrt: 08:00 Uhr am Gh Holler\,\nAnmeldung bei Gabi Kellner\, Tel. 08862 932720\nBeschreibung: Aussichtsreiche und interessante Tour in mittelschwerem Gelände mit ausgesetzten Stellen.\n\nVon der Ehrwalder Almbahn führt der Weg über den Hohen Gang (teilweise seilversichert) hinauf zum Seebensee und weiter zur Coburger Hütte. Hier halten wir uns erst Richtung Biberwierer Scharte\, zweigen links ab und queren unterhalb des Drachenkopfes ein Schotterfeld. Der Anstieg zum Gipfel ist ausgesetzt und bewegt sich im Klettergrad I. Der Abstieg erfolgt auf gleichem Weg.
URL:https://test.alpenverein-lechbruck.de/kalender/bergtour-vorderer-drachenkopf/
CATEGORIES:Bergsteiger
END:VEVENT
BEGIN:VEVENT
DTSTART;VALUE=DATE:20250720
DTEND;VALUE=DATE:20250721
DTSTAMP:20260422T035216
CREATED:20250721T105732Z
LAST-MODIFIED:20250721T105843Z
UID:2547-1752969600-1753055999@test.alpenverein-lechbruck.de
SUMMARY:Bergtour – Bike & Hike Lichtbrenntjoch 1.953 m
DESCRIPTION:Insg. ca. 6 h\, Aufstieg ca. 1.150 Hm \nSchwindelfreiheit und Trittsicherheit sind unabdingbar. Schwierigkeit: leicht\, Kondition: mittel \n\nAbfahrt: 08:00 Uhr am Gh Holler\nAnmeldung bei Gabi Kellner\, Tel. 08862 932720\nBeschreibung: Wenig bekannte und einsame Tour in den Ammergauer Alpen.\n\nVom Parkplatz hinter Heiterwang fahren wir die ersten 3 km mit dem Rad bis zur Einstiegsstelle. In Serpentinenen geht es hinauf auf dem Alpenrosenweg ins Pitzental und tiefer hinein bis zur Hirtenhütte\, wo sich der Weg im Schotterbett des Pitzenbaches verliert. Über Pfade durch Bergwald und Latschengassen erreichen wir schließlich den Gipfel. Der Abstieg erfolgt auf der Aufstiegsroute.
URL:https://test.alpenverein-lechbruck.de/kalender/bergtour-bike-hike-lichtbrenntjoch-1-953-m/
CATEGORIES:Bergsteiger,Mountainbiker
END:VEVENT
BEGIN:VEVENT
DTSTART;VALUE=DATE:20250718
DTEND;VALUE=DATE:20250721
DTSTAMP:20260422T035216
CREATED:20250721T110309Z
LAST-MODIFIED:20250721T110332Z
UID:2551-1752796800-1753055999@test.alpenverein-lechbruck.de
SUMMARY:MTB 3-Tages-Tour – Bayrischer Wald
DESCRIPTION:Fahrstrecke: max. 70 km\, max. 1800 Hm pro Tag\, Fahrtechnik: mittel bis schwer \nTeilnehmerzahl ist begrenzt! \n\nAbfahrt: nach Vereinbarung\nAnmeldung bei Bernhard Lippert\, Tel. 08862 987226\nBeschreibung: 900 Kilometer MTB Touren und 20.000 Hm stehen im Naturpark Bayrischer Wald zur Auswahl.\n\nWir werden auf alten Schmugglerpfaden öfter die Grenze zur Tschechei wechseln und auch im Böhmerwald einige Kilometer fahren. Das höchste Mittelgebirge Deutschlands bietet neben dem Naturpark auch noch sehr interessante geologische Strukturen\, wie zum Beispiel den großen Pfahl. Wir werden je nach Wetter und Gruppenstärke konditionell anspruchsvolle Touren durchführen\, wobei der Spaßfaktor natürlich nicht zu kurz kommt. Beherrschung der mittleren Fahrtechnik ist erforderlich.
URL:https://test.alpenverein-lechbruck.de/kalender/mtb-3-tages-tour-bayrischer-wald/
CATEGORIES:Mountainbiker
END:VEVENT
BEGIN:VEVENT
DTSTART;VALUE=DATE:20250718
DTEND;VALUE=DATE:20250721
DTSTAMP:20260422T035216
CREATED:20250721T110033Z
LAST-MODIFIED:20250721T110033Z
UID:2549-1752796800-1753055999@test.alpenverein-lechbruck.de
SUMMARY:Hüttenfamilienwochenende – Schwabegghütte Hinterhornbach
DESCRIPTION:(Selbstversorgerhütte auf 1700m) \nAufstieg ca. 2- 4 h (mit Kindern)\, 550 Hm\, 3 km\, Schwierigkeit: mittel\, Kondition: mittel \n\nAbfahrt: 13:00 Uhr am Gh Holler\,\nAnmeldung: bei Stefan Vohl\, Tel. 015208431926\,\nBeschreibung: Von Hinterhornbach geht es auf die Hütte\, Verpflegung muss mit hinaufgenommen werden. Von der Hütte aus sind verschiebende Ziele möglich\, mit den Familien kann man es aber auch entspannt angehen lassen\, je nach Alter der Kinder.
URL:https://test.alpenverein-lechbruck.de/kalender/huettenfamilienwochenende-schwabegghuette-hinterhornbach/
CATEGORIES:Familiengruppe
END:VEVENT
BEGIN:VEVENT
DTSTART;VALUE=DATE:20250705
DTEND;VALUE=DATE:20250706
DTSTAMP:20260422T035216
CREATED:20250718T131555Z
LAST-MODIFIED:20250718T134347Z
UID:2519-1751673600-1751759999@test.alpenverein-lechbruck.de
SUMMARY:Familiengruppe – Wasserskifahren am Lift in Blaichach
DESCRIPTION:Insg. 3 h Wasserskifahren\, Schwierigkeit: leicht\, Kondition: leicht \n\nAbfahrt: 08:30 am Haus der Vereine\,\nAnmeldung bis 20.06.2025 bei Frank\, Tel. 08862 9329970.\nBeschreibung: Wir fahren nach Blaichach an den Wasserskilift\, den wir von 9 – 12 Uhr gemietet haben.\nNeoprenanzüge können bei Bedarf (Zusatzkosten!) ausgeliehen werden. Ski\, Helm\, Wakeboard sind im Preis enthalten.
URL:https://test.alpenverein-lechbruck.de/kalender/familiengruppe-wasserskifahren-am-lift-in-blaichach/
CATEGORIES:Familiengruppe
END:VEVENT
BEGIN:VEVENT
DTSTART;VALUE=DATE:20250704
DTEND;VALUE=DATE:20250705
DTSTAMP:20260422T035216
CREATED:20250624T133245Z
LAST-MODIFIED:20250625T090229Z
UID:893-1751587200-1751673599@test.alpenverein-lechbruck.de
SUMMARY:Monatstreff
DESCRIPTION:20:00 Uhr im Gasthof Holler\, mit Tourenbesprechung
URL:https://test.alpenverein-lechbruck.de/kalender/monatstreff/
CATEGORIES:Sektionsveranstaltung
END:VEVENT
BEGIN:VEVENT
DTSTART;VALUE=DATE:20250628
DTEND;VALUE=DATE:20250629
DTSTAMP:20260422T035216
CREATED:20250624T134500Z
LAST-MODIFIED:20250625T075533Z
UID:898-1751068800-1751155199@test.alpenverein-lechbruck.de
SUMMARY:Radtour »Rundtour im Pfaffenwinkel«
DESCRIPTION:ca. 60 km\, 700 Hm\, 4\,5 h\, Schwierigkeit: leicht\, Kondition: mittel. \n\nAbfahrt: 09:00 Uhr Parkplatz an der Echelsbacher Brücke\,\nAnmeldung bei Gisela und Hans-Jörg Henn\, Tel.08868 181756\nBeschreibung: Eine Rundtour durch die sanft hügelige Landschaft im schönen Pfaffenwinkel. Soweit das Auge reicht\, hügelige Wiesen\, Wälder\, Seen und die Berge der Alpenkette. Einkehr in einem Biergarten auf der Tour.
URL:https://test.alpenverein-lechbruck.de/kalender/radtour-rundtour-im-pfaffenwinkel/
CATEGORIES:Radler
END:VEVENT
END:VCALENDAR